BEGIN:VCALENDAR
VERSION:2.0
PRODID:-//Lazzaretto di Cagliari - ECPv6.15.12.2//NONSGML v1.0//EN
CALSCALE:GREGORIAN
METHOD:PUBLISH
X-ORIGINAL-URL:https://www.lazzarettodicagliari.it
X-WR-CALDESC:Eventi per Lazzaretto di Cagliari
REFRESH-INTERVAL;VALUE=DURATION:PT1H
X-Robots-Tag:noindex
X-PUBLISHED-TTL:PT1H
BEGIN:VTIMEZONE
TZID:UTC
BEGIN:STANDARD
TZOFFSETFROM:+0000
TZOFFSETTO:+0000
TZNAME:UTC
DTSTART:20240101T000000
END:STANDARD
END:VTIMEZONE
BEGIN:VEVENT
DTSTART;TZID=UTC:20251016T170000
DTEND;TZID=UTC:20260130T190000
DTSTAMP:20260420T153631
CREATED:20251002T084302Z
LAST-MODIFIED:20251002T092539Z
UID:3842-1760634000-1769799600@www.lazzarettodicagliari.it
SUMMARY:Laboratorio delle erbe dal 16 ottobre 2025
DESCRIPTION:Dal 16 ottobre dalle 17 alle 19 avranno inizio gli appuntamenti del laboratorio delle erbe.\nEsso è organizzato dall'Associazione Roots-Radici Mediterranee\, nata per coltivare idee\, comunità e bellezza nel quartiere di Sant’Elia\, a Cagliari\, e oltre e che crede che prendersi cura della terra significhi prendersi cura delle persone; per farlo organizza laboratori\, orti urbani\, attività gratuite per adulti e bambini\, eventi culturali e percorsi di formazione\, mettendo al centro la natura\, la partecipazione e il sapere condiviso.\n\nPer info:rootsmediterranee@gmail.com\n 
URL:https://www.lazzarettodicagliari.it/event/laboratorio-delle-erbe-dal-16-ottobre-2025/
LOCATION:Lazzaretto\, Piazzale Lazzaretto 1-9\, Cagliari\, Cagliari\, 09126\, Italia
CATEGORIES:Eventi,News
ORGANIZER;CN="Roots. Radici Mediterranee":MAILTO:rootsmediterranee@gmail.com
END:VEVENT
BEGIN:VEVENT
DTSTART;TZID=UTC:20251018T080000
DTEND;TZID=UTC:20251221T200000
DTSTAMP:20260420T153631
CREATED:20251001T092938Z
LAST-MODIFIED:20251009T101105Z
UID:3547-1760774400-1766347200@www.lazzarettodicagliari.it
SUMMARY:Creative Corner Market ritorna il 🎃18 e 19 ottobre🍂/🎅13-14 dicembre e 20-21 dicembre🎄
DESCRIPTION:Anche quest’anno l’Ass. Culturale AmazingUs organizza il CCM\, un’occasione perfetta per scoprire idee regalo uniche e conoscere tanti artigiani\, illustratori\, handmaker e hobbisti\, pronti ad animare la struttura con le loro creazioni💛 \n\nVi aspettiamo il 18 e 19 ottobre 2025 per l’edizione autunnale e il 13 e 14 dicembre / 20 e 21 dicembre per quella natalizia.\nDalle 11 alle 20\nINGRESSO GRATUITO\n😽AMICI ANIMALI BENVENUTI🐶\n\n  \n  \n  \n  \n  \n 
URL:https://www.lazzarettodicagliari.it/event/creative-corner-market-ritorna-il-%f0%9f%8e%8318-e-19-ottobre%f0%9f%8d%82-%f0%9f%8e%8513-14-dicembre-e-20-21-dicembre%f0%9f%8e%84/
LOCATION:Lazzaretto Cagliari\, Piazzale Lazzaretto 1/9\, Cagliari\, Italia\, 09126\, Italia
CATEGORIES:Eventi
ATTACH;FMTTYPE=image/jpeg:https://www.lazzarettodicagliari.it/wp-content/uploads/2025/07/creative-corner.jpg
ORGANIZER;CN="Associzione Amazing us":MAILTO:ccmcagliari@gmail.com
END:VEVENT
BEGIN:VEVENT
DTSTART;TZID=UTC:20251104T090000
DTEND;TZID=UTC:20251207T190000
DTSTAMP:20260420T153631
CREATED:20251024T103051Z
LAST-MODIFIED:20251111T123505Z
UID:3862-1762246800-1765134000@www.lazzarettodicagliari.it
SUMMARY:Mostra PLASTICA-MENTE dal 4 novembre al 7 dicembre 2025
DESCRIPTION: La mostra Plastica-Mente a cura di Francesco Picciau e con il sostegno e la collaborazione del CEAS Laguna di Nora è organizzata per sensibilizzare il pubblico\, con particolare attenzione alle nuove generazioni\, sull’importanza della sostenibilità ambientale. \nIl progetto espositivo non si limita a esporre opere d’arte realizzate con materiali di recupero\, ma si struttura come un’esperienza interattiva e formativa che permette ai visitatori di comprendere gli impatti della plastica sull’ambiente e di esplorare le potenzialità del riciclo creativo stimolando la riflessione e l’apprendimento. Grazie ai pannelli didattici il visitatore acquisisce informazioni e basi di conoscenze scientifiche sulle proprietà della plastica e sulle sfide ambientali che comporta. Ogni opera d’arte è accompagnata da didascalie\, e in alcuni casi\, da un testo poetico scritto dallo stesso autore\, che invitano a una riflessione su temi attuali e di primaria importanza. \n📅Visitabile dal 4 novembre al 7 dicembre 2025 .Gli orari di apertura al pubblico della struttura sono dal martedì alla domenica\, dalle 9.00 alle 13.00 e dalle 15.00 alle 19.00. \n🎟️L’accesso alla struttura prevede un biglietto di ingresso pari a € 6\,00\, ridotto pari a € 3\,00 e omaggio per le categorie definite dalla normativa nazionale. \n 
URL:https://www.lazzarettodicagliari.it/event/mostra-plastica-mente-dal-4-novembre-al-7-dicembre-2025/
LOCATION:sala archi\, Cagliari\, Italia\, 09126\, Italia
CATEGORIES:Eventi,Mostre in Corso,Mostre temporanee
ATTACH;FMTTYPE=image/jpeg:https://www.lazzarettodicagliari.it/wp-content/uploads/2025/10/thumbnail_PHOTO-2025-10-16-12-41-13.jpg
END:VEVENT
BEGIN:VEVENT
DTSTART;TZID=UTC:20251119T180000
DTEND;TZID=UTC:20251119T233000
DTSTAMP:20260420T153631
CREATED:20251119T084421Z
LAST-MODIFIED:20251119T084529Z
UID:3891-1763575200-1763595000@www.lazzarettodicagliari.it
SUMMARY:Presentazione libri: "Sandro Pertini" e “Notte di vento che passa” 📖
DESCRIPTION:Il 19 novembre 2025 dalle ore 18 avrà luogo\, presso la sala convegni del Lazzaretto di Cagliari\, la presentazione del libro “Sandro Pertini“\, scritto da Gianluca Scroccu\, docente di Storia Contemporanea dell’Università di Cagliari e accompagnata da un dibattito insieme direttore dell’Archivio di Stato Enrico Trogu. L’opera\, prossima uscita per Salerno Editrice\, racconta la grandezza di Pertini: la sua coerenza era stata centrale nella coraggiosa opposizione antifascista\, anche quando venne condannato ad una lunga detenzione carceraria e di confino\, così come lo sarà nella lotta resistenziale e nell’impegno dentro il socialismo italiano post 1945. Il rapporto con il suo partito sarebbe stato sempre centrale\, da socialista riformista quale era\, non ebbe incarichi direttivi nel partito\, non fu mai chiamato a ruoli di governo\, ma fu sempre estremamente rispettato. La svolta giunse nel 1968\, quando divenne uomo delle istituzioni\, prima come Presidente della Camera dei deputati\, fino al 1976\, poi come Presidente della Repubblica\, dal 1978 al 1985. Il suo settennato entrò nel mito e nella memoria degli italiani nella stagione del terrorismo perché seppe interpretare e difendere il ruolo delle istituzioni democratiche con autorevolezza e autonomia dalla classe politica. \nSeguirà alle 19 Milena Agus con il suo “Notte di vento che passa” (Mondadori\, 2024)\, in compagnia di Fabio Marceddu\, attore e regista. L’autrice di “Mal di petre” racconta la storia di Cosima e dell’anno più memorabile della sua vita\, quello in cui compie diciott’anni e le succedono “tantissime cose per la prima o per l’ultima volta”. Quello che viene fuori è un romanzo pieno di meraviglia e di letteratura\, che racconta la tensione universale tra il desiderio di sognare e l’esigenza di vivere nel mondo reale\, di abitarla\, la realtà. Dalla scrittura dell’autrice emerge la consueta limpidezza ma anche una profonda ricerca linguistica: il suo sguardo\, originale e quasi fanciullesco\, fa ridere e meravigliare al tempo stesso\, come talvolta accade quando i bambini o i saggi dicono la verità. \n\nL’evento è organizzato da Il Crogiuolo\, una compagnia di professionisti dello spettacolo operante a Pirri.\n\n\n\nPer info:\nAssociazione Culturale Il Crogiuolo\n334 88 21 892/ilcrogiuolo@gmail.com/ilcrogiuolo.eu\n\n  \n  \n\n 
URL:https://www.lazzarettodicagliari.it/event/presentazione-libro-sandro-pertini%f0%9f%93%96/
LOCATION:sala convegni\, Piazzale Lazzaretto 1-9\, Cagliari\, Cagliari\, 09126\, Italia
CATEGORIES:Letteraio,News
ATTACH;FMTTYPE=image/jpeg:https://www.lazzarettodicagliari.it/wp-content/uploads/2025/11/luxa.org-joined-._Notte-di-vento-che-passa.jpg
ORGANIZER;CN="Il Crogiuolo":MAILTO:ilcrogiuolo@gmail.com, amministrazione@ilcrogiuolo.eu, segreteriapromozione@gmail.com
END:VEVENT
END:VCALENDAR