BEGIN:VCALENDAR
VERSION:2.0
PRODID:-//Lazzaretto di Cagliari - ECPv6.15.12.2//NONSGML v1.0//EN
CALSCALE:GREGORIAN
METHOD:PUBLISH
X-ORIGINAL-URL:https://www.lazzarettodicagliari.it
X-WR-CALDESC:Eventi per Lazzaretto di Cagliari
REFRESH-INTERVAL;VALUE=DURATION:PT1H
X-Robots-Tag:noindex
X-PUBLISHED-TTL:PT1H
BEGIN:VTIMEZONE
TZID:UTC
BEGIN:STANDARD
TZOFFSETFROM:+0000
TZOFFSETTO:+0000
TZNAME:UTC
DTSTART:20230101T000000
END:STANDARD
END:VTIMEZONE
BEGIN:VEVENT
DTSTART;TZID=UTC:20240705T213000
DTEND;TZID=UTC:20240705T233000
DTSTAMP:20260422T194456
CREATED:20240703T173717Z
LAST-MODIFIED:20240703T173717Z
UID:3244-1720215000-1720222200@www.lazzarettodicagliari.it
SUMMARY:La compagnia del Macombo. Vita d'Artista
DESCRIPTION:Venerdì 5 luglio 2024 alle ore 21.30 si esibirà al Lazzaretto La Compagnia del Macombo\, con il lavoro discografico “Vita d’Artista”. Una serata ricca di swing e canzoni d’autore.
URL:https://www.lazzarettodicagliari.it/event/la-compagnia-del-macombo-vita-dartista/
LOCATION:Chiostro
CATEGORIES:Eventi,Musicale
ATTACH;FMTTYPE=image/jpeg:https://www.lazzarettodicagliari.it/wp-content/uploads/2024/07/la-via-del-collegio.jpg
ORGANIZER;CN="la via del collegio":MAILTO:la.viadelcollegio@libero.it
END:VEVENT
BEGIN:VEVENT
DTSTART;TZID=UTC:20240712T203000
DTEND;TZID=UTC:20240712T233000
DTSTAMP:20260422T194456
CREATED:20240703T164816Z
LAST-MODIFIED:20240703T164816Z
UID:3235-1720816200-1720827000@www.lazzarettodicagliari.it
SUMMARY:Son'e Casteddu IV edizione
DESCRIPTION:VENERDÌ 12 LUGLIO dalle 20.30 il Lazzaretto aprirà le porte alla 4^ edizione di SON’E CASTEDDU organizzata dall’Associazione Il Sorriso di Piè. Serata musicale benefica a favore dei pazienti oncoematologici dell’Ospedale Oncologico “Businco”. Musica a cura dei NeoEx\, duo acustico. \nProposte Food & Drink di Accademia del Buon Gusto e La Terrazza Del Lazzaretto\, Cooperativa sant’Elia 2003.\nLive Painting di Accademia d’Arte di Cagliari.\nCreative Corner Shop curato dagli allievi dell’Accademia d’Arte\, da January Handmade e dal nostro stand che proporrà alcuni prodotti per acquisti solidali. \nCon la partecipazione di ADMO Sardegna (Associazione Donatori Midollo Osseo) MIDO (Registro Sardo Donatori Midollo Osseo) AART (Associazione Avanzamento Ricerca Trapianti).\nObiettivo: acquisto di una barella speciale per il trasporto dei pazienti di Oncoematologia. \nInfo e prenotazioni via SMS/WHATSAPP\n3286884572 Barbara\n335386456 Marco
URL:https://www.lazzarettodicagliari.it/event/sone-casteddu-iv-edizione/
LOCATION:Chiostro
CATEGORIES:Eventi,Musicale
ATTACH;FMTTYPE=image/jpeg:https://www.lazzarettodicagliari.it/wp-content/uploads/2024/07/sone-casteddu.jpeg
END:VEVENT
BEGIN:VEVENT
DTSTART;TZID=UTC:20240717T203000
DTEND;TZID=UTC:20240718T233000
DTSTAMP:20260422T194456
CREATED:20240607T082519Z
LAST-MODIFIED:20240703T173105Z
UID:3220-1721248200-1721345400@www.lazzarettodicagliari.it
SUMMARY:Candlelight open air 17-18 luglio 2024
DESCRIPTION:Per la seconda stagione il Lazzaretto ospita i concerti a lume di candela\, Candlelight Open Air. I primi appuntamenti a giugno con  un’esperienza musicale e multi-sensoriale in luoghi mozzafiato illuminati dalla luce confortante delle candele. \n17 luglio 2024: tributo ai Coldplay (concerto ore 20.30 e ore 22.30); Quartetto Ritorno – Quartetto d’archi \n18 giugno 2024: tributo a Ennio Morricone e altre colonne sonore (concerto ore 20.30); Quartetto Ritorno – Quartetto d’archi; tributo ai Queen (concerto ore 22.30); Quartetto Ritorno (Quartetto d’archi). \n  \nInformazioni e acquisto biglietti su \nhttps://feverup.com/it/cagliari/candlelight. \n 
URL:https://www.lazzarettodicagliari.it/event/3220/
LOCATION:Chiostro
CATEGORIES:Eventi,Musicale
ATTACH;FMTTYPE=image/jpeg:https://www.lazzarettodicagliari.it/wp-content/uploads/2024/06/candlelight-1.jpg
ORGANIZER;CN="Fever up":MAILTO:-
END:VEVENT
BEGIN:VEVENT
DTSTART;TZID=UTC:20240731T210000
DTEND;TZID=UTC:20240731T233000
DTSTAMP:20260422T194456
CREATED:20240722T112600Z
LAST-MODIFIED:20240722T112600Z
UID:3275-1722459600-1722468600@www.lazzarettodicagliari.it
SUMMARY:Andrea Casta -The Space Violin Dance Experience – Cagliari dal Vivo
DESCRIPTION:Andrea Casta\, il più celebre violinista elettrico italiano\, arriva in Sardegna! Uno show di grande impatto con tanta energia\, effetti speciali\, visual accattivanti! Con Andrea Casta\, il rinomato dj cagliaritano Andrea Laddo. \nOpening Act Mark Tembo. \n“The Space Violin – Dance Experience” è un rito collettivo pieno di energia sullo stile dei grandi festival elettronici internazionali\, in cui si balla e si canta immersi in suoni dance\, in un racconto visivo su ledwall ed effetti speciali. Casta\, con il suo inconfondibile archetto luminoso\, è emerso come uno degli artisti creativi più innovativi della scena pop-dance: porta sul palco la visione multimediale del violino elettrico come narratore del suo tempo.\nNegli ultimi anni ha suonato in 30 nazioni\, raggiungendo 400mila followers e più di 30 milioni di views sui social network. Nei tour internazionali\, nella produzione musicale e di video e nel dialogo continuo con i fan sui social è riuscito a sintonizzare il suo immaginario e il suono delle corde con la sensibilità del nostro tempo. La stessa idea la porta sul palco: una comunicazione sintetica e veloce ma non priva di profondità\, in cui si balla e canta insieme al pubblico mentre sui ledwall scorrono i temi dell’amore per la natura e la salvaguardia del nostro pianeta\, per poi lanciare lo sguardo al futuro con il suo The Space Violin Project e dare spazio alle bellezze della nostra Italia. \nPer le date in Sardegna Andrea sarà accompagnato in consolle da Andrea Laddo\, deejay sardo noto nella scena dei club e già protagonista su numerosi grandi palchi. Andrea Casta nelle ultime stagioni ha aperto i 2 concerti record di Vasco Rossi al Circo Massimo di Roma\, è stato protagonista della performance in griglia di partenza al Gran Premio d’Italia di Monza\, ha partecipato alle cerimonie di apertura di Expo Dubai e dei Mondiali di sci di Cortina 2021\, e la scorsa stagione l’ha visto protagonista di un tour teatrale sold out con date a Roma\, Milano\, Verona\, Bologna e in molte altre città italiane. \nIngresso libero.
URL:https://www.lazzarettodicagliari.it/event/andrea-casta-the-space-violin-dance-experience-cagliari-dal-vivo/
LOCATION:Chiostro
CATEGORIES:Eventi,Musicale
ATTACH;FMTTYPE=image/png:https://www.lazzarettodicagliari.it/wp-content/uploads/2024/07/andrea-casta-violino.png
END:VEVENT
END:VCALENDAR