BEGIN:VCALENDAR
VERSION:2.0
PRODID:-//Lazzaretto di Cagliari - ECPv6.15.12.2//NONSGML v1.0//EN
CALSCALE:GREGORIAN
METHOD:PUBLISH
X-ORIGINAL-URL:https://www.lazzarettodicagliari.it
X-WR-CALDESC:Eventi per Lazzaretto di Cagliari
REFRESH-INTERVAL;VALUE=DURATION:PT1H
X-Robots-Tag:noindex
X-PUBLISHED-TTL:PT1H
BEGIN:VTIMEZONE
TZID:UTC
BEGIN:STANDARD
TZOFFSETFROM:+0000
TZOFFSETTO:+0000
TZNAME:UTC
DTSTART:20230101T000000
END:STANDARD
END:VTIMEZONE
BEGIN:VEVENT
DTSTART;TZID=UTC:20240801T213000
DTEND;TZID=UTC:20240801T233000
DTSTAMP:20260422T175904
CREATED:20240722T115537Z
LAST-MODIFIED:20240722T115537Z
UID:3281-1722547800-1722555000@www.lazzarettodicagliari.it
SUMMARY:Oblivion Collection
DESCRIPTION:Graziana Borciani\, Davide Calabrese\, Francesca Folloni\, Lorenzo Scuda\, Fabio Vagnarelli\nGli Oblivion sono i cinque sensi della satira musicale\, i cinque continenti della parodia\, i cinque gradi di separazione tra i Queen e Gianni Morandi. Li hanno definiti “atomizzatori di repertori musicali\, pusher di pillole caricaturali”\, ma anche “meravigliosamente superflui\, come le Piramidi”. Gli Oblivion giocano con la musica e il teatro. Sono un Spotify vivente che mastica le note e le digerisce in diretta in modi mai sentiti prima. Un OGM che spazia tra genio e follia\, giocoleria e cabaret\, intrattenimento leggero e profonda demenzialità. Assistere ai loro show è un’esperienza folle e irripetibile che provoca risate scomposte\, isteria collettiva\, ma soprattutto interminabili richieste di bis. \nInfo e prevendita Box Office Cagliari 070657428 www.boxofficesardegna.it – on line www.boxol.it info // toto@laviadelcollegio.com\nLa via del Collegio – www.laviadelcollegio.com 0702042771 www.kegustojezz.it.
URL:https://www.lazzarettodicagliari.it/event/oblivion-collection/
LOCATION:Chiostro
CATEGORIES:Eventi,Musicale
ATTACH;FMTTYPE=image/jpeg:https://www.lazzarettodicagliari.it/wp-content/uploads/2024/07/oblivion-collection.jpg
ORGANIZER;CN="la via del collegio":MAILTO:la.viadelcollegio@libero.it
END:VEVENT
BEGIN:VEVENT
DTSTART;TZID=UTC:20240802T210000
DTEND;TZID=UTC:20240802T233000
DTSTAMP:20260422T175904
CREATED:20240722T113015Z
LAST-MODIFIED:20240722T113015Z
UID:3278-1722632400-1722641400@www.lazzarettodicagliari.it
SUMMARY:Bambole di Pezza @ Lazzaretto Sant’Elia
DESCRIPTION:Le Bambole di Pezza sono una rock punk band milanese con una formazione totalmente femminile\, da sempre impegnata su tematiche femministe\, sull’uguaglianza di genere e sulla lotta contro la violenza e il sessismo. \nHanno pubblicato i dischi ”Crash Me” per Tube Record e “Strike” per Alternative Produzioni. Dopo qualche anno di silenzio sono tornate in attività con una formazione rinnovata e dal 2022 pubblicano i singoli “Favole (mi hai rotto il caxxo)”\, che raggiunge diversi passaggi nelle maggiori radio italiane\, viene inserito nella playlist editoriale «Rock Italia» – di cui la band ha conquistato la copertina numerose volte – conta quasi 700mila streams su Spotify e oltre 300mila visualizzazioni su Youtube\, “Rumore”\, cover del celebre brano di Raffaella Carrà\, “Non Sei Sola” feat Jo Squillo” in occasione della giornata internazionale contro la violenza sulle donne e “Io Non Sono Come Te“\, singolo che anticipa l’uscita del terzo album della band\, “DIRTY” (luglio 2023). \nSul palco portano tutta la loro attitudine energetica e hanno all’attivo centinaia di concerti (tra cui l’apertura ai Mötley Crüe e ai Def Leppard all’Ippodromo di San Siro di Milano). Il 20 ottobre tornano con un nuovo singolo\, “Contare 0”\, con cui mostrano tutta la loro sensibilità a fianco di chi sta vivendo o ha vissuto difficoltà nella loro vita. In occasione della Giornata per l’eliminazione della violenza sulle donne il 25 novembre hanno tenuto un concerto-evento all’Alcatraz di Milano a sostegno della causa. \nNovembre 2023 rimettono fuori l’album Dirty (Deluxe) con delle tracce aggiunte\, a dicembre pubblicano il singolo “All I Want For Christmas Is You” \, celebre brano natalizio in versione punk rock mentre con il nuovo anno pubblicano la versione inglese “Freddy Krueger (Nightmare)” per il mercato internazionale. Il 9 febbraio 24 pubblicano Fairy Tales versione inglese di Favole. \nIngresso libero.
URL:https://www.lazzarettodicagliari.it/event/bambole-di-pezza-lazzaretto-santelia/
LOCATION:Chiostro
CATEGORIES:Eventi,Musicale
ATTACH;FMTTYPE=image/png:https://www.lazzarettodicagliari.it/wp-content/uploads/2024/07/Senza-titolo.png
END:VEVENT
BEGIN:VEVENT
DTSTART;TZID=UTC:20240806T213000
DTEND;TZID=UTC:20240806T233000
DTSTAMP:20260422T175904
CREATED:20240722T123001Z
LAST-MODIFIED:20240722T123001Z
UID:3287-1722979800-1722987000@www.lazzarettodicagliari.it
SUMMARY:Acais Pasión Flamenco
DESCRIPTION:Acais Pasión Flamenco è una formazione classica\, il cosiddetto “Cuadro”\, che si può vedere e trovare nei tablao e nei piccoli teatri .“Acais” significa “occhi” in gergo gitano riferito in questo caso all’introspezione e allo sguardo interiore. Infatti il flamenco esprime attraverso toque\, cante\, baile e palmas tutto l’universo dei sentimenti umani: amore\, passione\, gelosia. È una forma d’arte dalle origini lontane ma di cui l’Andalusia conserva e custodisce il grande valore artistico. Nel 2010 il flamenco viene nominato patrimonio immateriale dall’Unesco e nel 2024 dichiarato bene di interesse culturale dalla Comunità di Madrid.\n\n\n\n\n\nIn scena\nLola Aramillo\, Begoña Arce\, Jesús Herrera (baile);\nCristina Tovar \, Miguel Picuo (cante);\nDavid Vargas (guitarra).\nIngresso € 12\,50
URL:https://www.lazzarettodicagliari.it/event/acais-pasion-flamenco/
LOCATION:Chiostro
CATEGORIES:Eventi,Musicale
ATTACH;FMTTYPE=image/jpeg:https://www.lazzarettodicagliari.it/wp-content/uploads/2024/07/Flamenco_loc2024_5.jpg
ORGANIZER;CN="Cooperativa Forma e Poesia nel jazz":MAILTO:388 3899755 MAIL info@formaepoesianeljazz.com
END:VEVENT
BEGIN:VEVENT
DTSTART;TZID=UTC:20240809T210000
DTEND;TZID=UTC:20240810T230000
DTSTAMP:20260422T175904
CREATED:20240722T124405Z
LAST-MODIFIED:20240722T124503Z
UID:3290-1723237200-1723330800@www.lazzarettodicagliari.it
SUMMARY:Teatro Lirico di Cagliari - Attività estiva
DESCRIPTION:Il Teatro lirico di Cagliari organizza una serie di manifestazioni itineranti a partire dal 12 luglio e sino alla metà di agosto 2024: \n12-13 luglio 2024 Bastione Saint Remy\, Terrazza Umberto I – Cagliari; \n16- 18 luglio 2024 Area archeologica di Tharros – Cabras; \n20-21 luglio 2024 Parco della Musica – Cagliari; \n26-27 luglio 2024 Sagrato Basilica Nostra Signora di Bonaria – Cagliari; \n1-2-3 agosto 2024 Parco della Musica – Cagliari \nLazzaretto di Cagliari: venerdì 9 agosto\, ore 21 e sabato 10 agosto\, ore 21\nOrchestra e Coro del Teatro Lirico di Cagliari\ndirettore Sergio Oliva\nmaestro del coro Giovanni Andreoli\nJohn Williams Jurassic Park: brani scelti\nJohn Williams E. T.: Adventures on Earth\nEnnio Morricone Nuovo Cinema Paradiso: brani scelti (arrangiamento Michael Applebaum)\nJohn Williams Schindler’s List: Theme\, da Three pieces per violino e orchestra\nHans Zimmer Gladiator: Symphonic Suite (arrangiamento Michael Applebaum)\nEnnio Morricone Mission: brani scelti (arrangiamento Michael Applebaum)\nJohn Williams Star Wars: The Imperial March\nJohn Williams Indiana Jones and the Raiders of the Lost Ark: Raiders March
URL:https://www.lazzarettodicagliari.it/event/teatro-lirico-di-cagliari-attivita-estiva/
LOCATION:piazzale Lazzaretto\, Piazzale Lazzaretto 1-9\, Cagliari\, Cagliari\, 09126\, Italia
CATEGORIES:Eventi,Musicale
ATTACH;FMTTYPE=image/jpeg:https://www.lazzarettodicagliari.it/wp-content/uploads/2024/07/images.jpeg
ORGANIZER;CN="Teatro lirico di cagliari":MAILTO:biglietteria@teatroliricodicagliari.it
END:VEVENT
BEGIN:VEVENT
DTSTART;TZID=UTC:20240824T203000
DTEND;TZID=UTC:20240824T233000
DTSTAMP:20260422T175904
CREATED:20240803T154347Z
LAST-MODIFIED:20240803T154347Z
UID:3303-1724531400-1724542200@www.lazzarettodicagliari.it
SUMMARY:Concerti Candlelight  24 agosto 2024
DESCRIPTION:Per la seconda stagione il Lazzaretto ospita i concerti a lume di candela\, Candlelight Open Air. Proseguono gli appuntamenti ad agosto con  un’esperienza musicale e multi-sensoriale in luoghi mozzafiato illuminati dalla luce confortante delle candele. \n24 agosto 2024: tributo a Ennio Morricone e altre colonne sonore (concerto ore 20.30)\, Quartetto Ritorno – Quartetto d’archi; tributo ai Coldplay (concerto ore 22.30); Quartetto Ritorno – Quartetto d’archi. \nInformazioni e acquisto biglietti su \nhttps://feverup.com/it/cagliari/candlelight. \n 
URL:https://www.lazzarettodicagliari.it/event/concerti-candlelight-24-agosto-2024/
LOCATION:Chiostro
CATEGORIES:Eventi,Musicale
ATTACH;FMTTYPE=image/avif:https://www.lazzarettodicagliari.it/wp-content/uploads/2024/08/quartetto-Ritorno.avif
ORGANIZER;CN="Fever up":MAILTO:-
END:VEVENT
BEGIN:VEVENT
DTSTART;TZID=UTC:20240830T210000
DTEND;TZID=UTC:20240830T233000
DTSTAMP:20260422T175904
CREATED:20240812T083935Z
LAST-MODIFIED:20240812T085058Z
UID:3320-1725051600-1725060600@www.lazzarettodicagliari.it
SUMMARY:ExtraSant'Elia Waves - Onde sulla città. Fink
DESCRIPTION:Secondo appunatmento della rassegna ExtraSant’Elia Waves- onde sulla città\, che vuole creare\, attraverso varie espressioni artistiche (musica\, teatro\, cinema e arte)\, un ponte tra la Periferia e il Centro\, intesi non come luoghi fisici\, bensì spazi umani. Le onde che si diffondono e che portano alla contaminazione tra il quartiere e l’esterno\, da un luogo all’altro\, creano una eco che di ritorno riporta con sé le contaminazioni di ciò che ha incontrato. Luoghi diversi\, esperienze diverse\, persone diverse possono avere tanto in comune: possono scambiare emozioni\, far nascere pensieri\, condividere aspettative. La musica e il teatro hanno da sempre una funzione sociale: far riflettere. \n30 Agosto 2024 – FINK Per la prima volta in Sardegna il cantante\, musicista e compositore\, noto per la sua mescolanza di folk\, blues ed elettronica offrirà al pubblico un’esperienza musicale unica e memorabile. Fink è un musicista di “mare”\, nasce a Brighton\, cittadina della costa meridionale dell’Inghilterra affacciata sulla Manica\, un porto di mare che ha influenzato non poco la scrittura dei testi dell’artista e la sua irrefrenabile voglia di girare il mondo portando in ogni luogo la sua musica e il suo background artistico e culturale mischiandosi alle realtà locali che incontra e che arricchiscono il suo personale percorso musicale.
URL:https://www.lazzarettodicagliari.it/event/3320/
LOCATION:Chiostro
CATEGORIES:Eventi,Musicale
ATTACH;FMTTYPE=image/jpeg:https://www.lazzarettodicagliari.it/wp-content/uploads/2024/08/fink_square.jpg
END:VEVENT
BEGIN:VEVENT
DTSTART;TZID=UTC:20240831T210000
DTEND;TZID=UTC:20240831T233000
DTSTAMP:20260422T175904
CREATED:20240812T085940Z
LAST-MODIFIED:20240812T085940Z
UID:3325-1725138000-1725147000@www.lazzarettodicagliari.it
SUMMARY:Ghemon. Una cosetta così.
DESCRIPTION:Una cosetta così.  \nIl nuovo progetto di Ghemon è uno spettacolo che porta sullo stesso palco musica\, stand-up comedy e storytelling. \nPartito dal mondo hip hop\, del quale è diventato uno dei più apprezzati artisti\, negli anni ha poi reso il suo stile unico\, mescolando soul\, rap e musica italiana. Nel corso della sua carriera ha scelto la strada della versatilità per raccontare agli altri il suo mondo interiore\, facendolo anche attraverso i dj set\, la radio\, i podcast\, un libro e lo sport (appassionato di calcio e pallacanestro\, negli ultimi anni ha iniziato anche a correre maratone). Anni di evoluzioni e rivoluzioni\, trovando nuove forme per assomigliarsi di più\, perché se è vero che si hanno delle cose da dire\, i modi per farlo possono essere potenzialmente infiniti. Nasce allora un altro modo per raccontarsi e raccontare al pubblico. Uno spazio di libertà creativa in divenire dove sciogliere finalmente le briglie\, per dare allo spettatore qualcosa di diverso da quello che già conosce attraverso la musica dell’artista. Sul palco uno show fatto di condivisione di storie personali da guardare attraverso la lente dell’ironia\, canzoni inedite\, cover inaspettate e momenti di riflessione più profonda.  Lo spettacolo\, scritto anche con l’aiuto di Carmine Del Grosso\, vedrà sul palco Giuseppe Seccia alle tastiere e Filippo Cattaneo Ponzoni alla chitarra.
URL:https://www.lazzarettodicagliari.it/event/ghemon-una-cosetta-cosi/
LOCATION:Chiostro
CATEGORIES:Eventi,Musicale
ATTACH;FMTTYPE=image/png:https://www.lazzarettodicagliari.it/wp-content/uploads/2024/08/ghemon-31-agosto.png
ORGANIZER;CN="Cooperativa Forma e Poesia nel jazz":MAILTO:388 3899755 MAIL info@formaepoesianeljazz.com
END:VEVENT
END:VCALENDAR