BEGIN:VCALENDAR
VERSION:2.0
PRODID:-//Lazzaretto di Cagliari - ECPv6.15.12.2//NONSGML v1.0//EN
CALSCALE:GREGORIAN
METHOD:PUBLISH
X-WR-CALNAME:Lazzaretto di Cagliari
X-ORIGINAL-URL:https://www.lazzarettodicagliari.it
X-WR-CALDESC:Eventi per Lazzaretto di Cagliari
REFRESH-INTERVAL;VALUE=DURATION:PT1H
X-Robots-Tag:noindex
X-PUBLISHED-TTL:PT1H
BEGIN:VTIMEZONE
TZID:UTC
BEGIN:STANDARD
TZOFFSETFROM:+0000
TZOFFSETTO:+0000
TZNAME:UTC
DTSTART:20230101T000000
END:STANDARD
END:VTIMEZONE
BEGIN:VEVENT
DTSTART;TZID=UTC:20240905T200000
DTEND;TZID=UTC:20240907T233000
DTSTAMP:20260422T161706
CREATED:20240812T090210Z
LAST-MODIFIED:20240812T090210Z
UID:3328-1725566400-1725751800@www.lazzarettodicagliari.it
SUMMARY:Karel Music Expo'
DESCRIPTION:Il Karel Music Expo è un festival di musica e cultura resistente che promuove tutte le forme espressive estranee a meccanismi di grande distribuzione all’interno di una vetrina di livello europeo\, in cui forma e contenuti hanno la medesima importanza. L’articolazione del KME prevede concerti\, installazioni\, incontri e convegni orientati sul tema prescelto\, che varia di anno in anno\, così da caratterizzare il programma di ogni edizione. Fra i partner del KME sono da citare SonicBids e Gigmit\, portali di riferimento per la musica indipendente su scala mondiale ed europea.\nLa presenza costante di artisti provenienti da tutto il mondo\, dagli emergenti ai più affermati\, rappresenta il carattere internazionale dell’evento e la sua specificità. che dal 2007 rende il Karel Music Expò un appuntamento importante per chi ama davvero la musica. \n 
URL:https://www.lazzarettodicagliari.it/event/karel-music-expo/
LOCATION:Chiostro
CATEGORIES:Eventi,Musicale
ATTACH;FMTTYPE=image/jpeg:https://www.lazzarettodicagliari.it/wp-content/uploads/2024/08/Karel-music-expo-2024.jpg
ORGANIZER;CN="Cooperativa Vox DAy":MAILTO:info@voxday.com
END:VEVENT
BEGIN:VEVENT
DTSTART;TZID=UTC:20240911T210000
DTEND;TZID=UTC:20240915T233000
DTSTAMP:20260422T161706
CREATED:20240812T090617Z
LAST-MODIFIED:20240812T090617Z
UID:3331-1726088400-1726443000@www.lazzarettodicagliari.it
SUMMARY:Festival Forma e Poesia nel Jazz
DESCRIPTION:Dall’ 11 al 21 Settembre a Cagliari la ventisettesima edizione del festival Forma e Poesia nel Jazz\, che rappresenta uno degli appuntamenti più consolidati e apprezzati\, anche da critica e addetti ai lavori\, nel panorama jazzistico sardo\, come certifica il lungo elenco di musicisti che hanno dato lustro alle sue varie stagioni. \nCi immaginiamo sempre nuove forme di coinvolgimento non solo dei giovani ma anche di adulti\, viste le nuove e più inclusive tematiche che il festival sta portando avanti.
URL:https://www.lazzarettodicagliari.it/event/festival-forma-e-poesia-nel-jazz/
LOCATION:Chiostro
CATEGORIES:Eventi,Musicale
ATTACH;FMTTYPE=image/jpeg:https://www.lazzarettodicagliari.it/wp-content/uploads/2024/08/FPJ-2024.jpg
ORGANIZER;CN="Cooperativa Forma e Poesia nel jazz":MAILTO:388 3899755 MAIL info@formaepoesianeljazz.com
END:VEVENT
BEGIN:VEVENT
DTSTART;TZID=UTC:20240920T190000
DTEND;TZID=UTC:20240920T230000
DTSTAMP:20260422T161706
CREATED:20240906T102638Z
LAST-MODIFIED:20240906T102638Z
UID:3344-1726858800-1726873200@www.lazzarettodicagliari.it
SUMMARY:Sotto lo stesso cuore. ADMO
DESCRIPTION:Evento di musica e solidarietà organizzato dall’ADMO Sardegna\, AART e dal Registro Sardo Donatori Midollo Osseo\, patrocinato da ADMO Nazionale\, Regione Autonoma della Sardegna\, Comune di Cagliari\, UNICA\, ASL Cagliari\, Fondazione di Sardegna\, Lazzaretto di Cagliari\, CSEO3 Servizi\, UNICA Radio\, Open Studio Psicologico\, Dipartimento Medico\, CSV Sardegna Solidale\, TCK & Friends\, Tuttigiorni\, Lo Snack Naturale\, air ADDV. \nUn’occasione per parlare di donazione di midollo osseo e iscriversi al Registro Donatori. \nE’ possibile iscriversi all’iniziativa attarverso il link: \nhttps://docs.google.com/forms/d/e/1FAIpQLSeLrlAnCUbxFT_t4Y20ZTDkju_S1tGHOMLw8dEjyzPgMdrIgw/viewform
URL:https://www.lazzarettodicagliari.it/event/sotto-lo-stesso-cuore-admo/
LOCATION:Chiostro
CATEGORIES:Eventi,Musicale
ATTACH;FMTTYPE=image/jpeg:https://www.lazzarettodicagliari.it/wp-content/uploads/2024/09/locandina-20-settembre-2024.jpeg
ORGANIZER;CN="ADMO Sardegna":MAILTO:admoregionale@libero.it
END:VEVENT
BEGIN:VEVENT
DTSTART;TZID=UTC:20240925T203000
DTEND;TZID=UTC:20240926T233000
DTSTAMP:20260422T161706
CREATED:20240803T154946Z
LAST-MODIFIED:20240803T154946Z
UID:3306-1727296200-1727393400@www.lazzarettodicagliari.it
SUMMARY:Concerti Candlelight 25 e 26 settembre 2024
DESCRIPTION:Per la seconda stagione il Lazzaretto ospita i concerti a lume di candela\, Candlelight Open Air. Si chiudono a settembre gli appuntamenti estivi\, con  un’esperienza musicale e multi-sensoriale in luoghi mozzafiato illuminati dalla luce confortante delle candele. \n25 settembre 2024: tributo a Ennio Morricone e altre colonne sonore (concerto ore 20.00)\, Giuseppe Califano – Pianoforte; Tributo ai Queen (concerto ore 22.00)\, Giuseppe Califano – Pianoforte. \n26 settembre 2024: tributo ai Coldplay (concerto ore 20.00 e ore 22.00)\, Giuseppe Califano – Pianoforte \nInformazioni e acquisto biglietti su \nhttps://feverup.com/it/cagliari/candlelight. \n 
URL:https://www.lazzarettodicagliari.it/event/concerti-candlelight-25-e-26-settembre-2024/
LOCATION:Chiostro
CATEGORIES:Eventi,Musicale
ATTACH;FMTTYPE=image/avif:https://www.lazzarettodicagliari.it/wp-content/uploads/2024/08/pianista-Califano.avif
ORGANIZER;CN="Fever up":MAILTO:-
END:VEVENT
BEGIN:VEVENT
DTSTART;TZID=UTC:20240927T203000
DTEND;TZID=UTC:20240927T233000
DTSTAMP:20260422T161706
CREATED:20240925T123738Z
LAST-MODIFIED:20240925T123802Z
UID:3377-1727469000-1727479800@www.lazzarettodicagliari.it
SUMMARY:ExtraSant'Elia Waves- onde sulla città: Paolo Benvegnu'
DESCRIPTION:Terzo appuntamento della rassegna ExtraSant’Elia Waves- onde sulla città\, che vuole creare\, attraverso varie espressioni artistiche (musica\, teatro\, cinema e arte)\, un ponte tra la Periferia e il Centro\, intesi non come luoghi fisici\, bensì spazi umani. Le onde che si diffondono e che portano alla contaminazione tra il quartiere e l’esterno\, da un luogo all’altro\, creano una eco che di ritorno riporta con sé le contaminazioni di ciò che ha incontrato. Luoghi diversi\, esperienze diverse\, persone diverse possono avere tanto in comune: possono scambiare emozioni\, far nascere pensieri\, condividere aspettative. La musica e il teatro hanno da sempre una funzione sociale: far riflettere. \nLa prima delle due serate finali di Extra Sant’Elia – Waves Festival vedrà il ritorno sul palco\, a Cagliari\, di uno dei cantautori più importanti della scena indipendente italiana\, Paolo Benvegnù. \n“E’ inutile parlare d’amore”\, l’ultimo album del cantautore lombardo\, ha trionfato alla Targa Tenco nella categoria miglior album\, un riconoscimento prestigioso che finalmente celebra un artista della portata di Paolo Benvegnù\, relegandolo (finalmente) di diritto tra l’eccellenza della canzone d’autore italiana. La carriera di Paolo Benvegnù arriva da lontano. Con gli Scisma\, negli anni 90\, ha lasciato il segno. Anni in cui il rock italiano tornava credibile grazie a band ancora oggi presenti nel contesto musicale in cui gravitiamo: Marlene Kuntz\, Afterhours\, Verdena solo per citarne alcune. Ma è il viaggio intrapreso in solitaria di Benvegnù che rivela la capacità unica di intrecciare poesie sonore e melodie innovative. Album come “Piccoli fragilissimi film” \, “Le labbra” e “Hermann” non sono solo dischi\, ma esperienze emotive intense. Torna a Cagliari dopo parecchi anni con un concerto speciale\, in una versione in duo molto intima e caratterizzata da ampi momenti acustici.
URL:https://www.lazzarettodicagliari.it/event/extrasantelia-waves-onde-sulla-citta-paolo-benvegnu/
LOCATION:Chiostro
CATEGORIES:Eventi,Musicale
ATTACH;FMTTYPE=image/jpeg:https://www.lazzarettodicagliari.it/wp-content/uploads/2024/09/WhatsApp-Image-2024-09-18-at-18.03.54-1.jpeg
ORGANIZER;CN="Made Island Sound":MAILTO:madeislandsound@gmail.com
END:VEVENT
END:VCALENDAR