BEGIN:VCALENDAR
VERSION:2.0
PRODID:-//Lazzaretto di Cagliari - ECPv6.15.12.2//NONSGML v1.0//EN
CALSCALE:GREGORIAN
METHOD:PUBLISH
X-ORIGINAL-URL:https://www.lazzarettodicagliari.it
X-WR-CALDESC:Eventi per Lazzaretto di Cagliari
REFRESH-INTERVAL;VALUE=DURATION:PT1H
X-Robots-Tag:noindex
X-PUBLISHED-TTL:PT1H
BEGIN:VTIMEZONE
TZID:UTC
BEGIN:STANDARD
TZOFFSETFROM:+0000
TZOFFSETTO:+0000
TZNAME:UTC
DTSTART:20240101T000000
END:STANDARD
END:VTIMEZONE
BEGIN:VEVENT
DTSTART;TZID=UTC:20250619T213000
DTEND;TZID=UTC:20250619T230000
DTSTAMP:20260422T011332
CREATED:20250619T085840Z
LAST-MODIFIED:20250619T091434Z
UID:3481-1750368600-1750374000@www.lazzarettodicagliari.it
SUMMARY:"Duo Italia - due menti a confronto" con Greg e Max Paiella
DESCRIPTION:Il 19 giugno alle 21:30 arriva al Lazzaretto di Cagliari il concerto “Duo Italia – due menti a confronto”\, con Greg e Max e Paiella. \nNon perderti l'evento\, organizzato dalla Via del Collegio\, che ti proporrà una serata bizzarra che va canzoni romanesche a melodie hawaiiane\, in un'ora e mezza di divertimento puro.\n\nInfo e prevendita online www.boxofficesardegna.it – www.boxol.it \n\nPunti vendita fisici consultabili QUI
URL:https://www.lazzarettodicagliari.it/event/duo-italia-due-menti-a-confronto-con-greg-e-max-paiella/
LOCATION:Chiostro
CATEGORIES:Eventi,Musicale
ATTACH;FMTTYPE=image/png:https://www.lazzarettodicagliari.it/wp-content/uploads/2025/06/duo-italia.png
ORGANIZER;CN="la via del collegio":MAILTO:la.viadelcollegio@libero.it
END:VEVENT
BEGIN:VEVENT
DTSTART;TZID=UTC:20250624T173000
DTEND;TZID=UTC:20250625T203000
DTSTAMP:20260422T011332
CREATED:20250619T090621Z
LAST-MODIFIED:20250619T091355Z
UID:3484-1750786200-1750883400@www.lazzarettodicagliari.it
SUMMARY:Iniziativa "Cornici 0/6" - laboratori e spettacoli per bambini
DESCRIPTION:Il 24 e il 25 giugno non perderti l'iniziativa “Cornici 0/6”\, per bambini da 0 a 6 anni\, organizzata dal Comune di Cagliari. \n\nL'evento avrà luogo al Lazzaretto di Cagliari\, nel quartiere di Sant'Elia\, e prevede laboratori e spettacoli teatrali dedicati ai più piccoli.\nAd aprire la serata alle17:30 sarà lo spettacolo “Casa”\, di Andrea Buzzetti\, Bruno Cappagli e Carlotta Zini\, per la regia di Bruno Cappagli con Michele Onori ed Erika Salamone. In chiusura della manifestazione\, invece\, si assisterà allo spettacolo “Famiglie”\, per la regia di Andrea Buzzetti con la collaborazione di Carlotta Zini ed Enrico Montalbani\, con Andrea Buzzetti e Lorenzo Monti\, il 25 giugno alle 19. \n\nLa partecipazione è gratuita\, ma riservata a un numero limitato di persone residenti in città\, per cui è necessario iscriversi.\n\nInfo e dettagli sul modulo di iscrizione: https://www.comune.cagliari.it/portale/page/it/cornici_06_arriva_al_lazzaretto_due_giorni_di_spettacoli_teatrali_e_laboratori_per_bambine_e_bambini_da_0_a_6_anni?contentId=NVT218613
URL:https://www.lazzarettodicagliari.it/event/iniziativa-cornici-0-6-laboratori-e-spettacoli-per-bambini/
LOCATION:Lazzaretto\, Piazzale Lazzaretto 1-9\, Cagliari\, Cagliari\, 09126\, Italia
CATEGORIES:Eventi,Letteraio,Musicale
ATTACH;FMTTYPE=image/jpeg:https://www.lazzarettodicagliari.it/wp-content/uploads/2025/06/1.jpg
END:VEVENT
BEGIN:VEVENT
DTSTART;TZID=UTC:20250628T200000
DTEND;TZID=UTC:20250628T233000
DTSTAMP:20260422T011332
CREATED:20250619T091253Z
LAST-MODIFIED:20250619T091253Z
UID:3492-1751140800-1751153400@www.lazzarettodicagliari.it
SUMMARY:Concerti Candlelight Open Air - tributi a Ennio Morricone e i Coldplay
DESCRIPTION:Il 28 giugno\, al Lazzaretto di Cagliari\, non mancare a due appuntamenti speciali: i concerti Candlelight Open Air.\n\nAlle 20 la serata si aprirà con un tributo a Ennio Morricone e altre colonne sonore di film e serie TV.\nAlle 22\, invece\, il concerto sarà dedicato ai Coldplay.\n\nAl pianoforte\, Luca Morelli.\n\nLa durata dei concerti è di circa 65 minuti\, con apertura delle porte 30 minuti prima dell'inizio previsto. I posti a sedere sono assegnati all'arrivo\, in base alla tipologia di biglietto acquistato. \n\nInfo e prevendita online: https://feverup.com/it/cagliari/candlelight?srsltid=AfmBOopVl15sZTo0chSKXktDd2Nvvv1sh4H95anv_S4POv6f7V2Tyljs
URL:https://www.lazzarettodicagliari.it/event/concerti-candlelight-open-air-tributi-a-ennio-morricone-e-i-coldplay/
LOCATION:Chiostro
CATEGORIES:Eventi,Musicale
ATTACH;FMTTYPE=image/jpeg:https://www.lazzarettodicagliari.it/wp-content/uploads/2025/06/candlelight.jpg
ORGANIZER;CN="Fever up":MAILTO:-
END:VEVENT
END:VCALENDAR