BEGIN:VCALENDAR
VERSION:2.0
PRODID:-//Lazzaretto di Cagliari - ECPv6.15.12.2//NONSGML v1.0//EN
CALSCALE:GREGORIAN
METHOD:PUBLISH
X-ORIGINAL-URL:https://www.lazzarettodicagliari.it
X-WR-CALDESC:Eventi per Lazzaretto di Cagliari
REFRESH-INTERVAL;VALUE=DURATION:PT1H
X-Robots-Tag:noindex
X-PUBLISHED-TTL:PT1H
BEGIN:VTIMEZONE
TZID:UTC
BEGIN:STANDARD
TZOFFSETFROM:+0000
TZOFFSETTO:+0000
TZNAME:UTC
DTSTART:20240101T000000
END:STANDARD
END:VTIMEZONE
BEGIN:VEVENT
DTSTART;TZID=UTC:20250913T200000
DTEND;TZID=UTC:20250914T233000
DTSTAMP:20260422T013711
CREATED:20250901T073954Z
LAST-MODIFIED:20250901T073954Z
UID:3636-1757793600-1757892600@www.lazzarettodicagliari.it
SUMMARY:Candlelight Open Air il 13 e 14 settembre 2025
DESCRIPTION:Il 13 e 14 settembre 2025 al chiostro del Lazzaretto di Cagliari dalle ore 20 vi aspettano i concerti Candlelight\, organizzati da FeverUp. \n🕯️Venite a vivere un’esperienza musicale dal vivo e multi-sensoriale in un luogo mozzafiato\, accompagnati dalla luce confortante delle candele 🕯️ \n\n Durata: 65 minuti (circa). Le porte aprono 30 minuti prima dell’inizio del concerto. Non saranno consentiti ritardi.\nI posti sono assegnati all’arrivo\, in base al tipo di biglietto acquistato.\n\nBiglietti e info:https://feverup.com/it/cagliari/candlelight?srsltid=AfmBOopVl15sZTo0chSKXktDd2Nvvv1sh4H95anv_S4POv6f7V2Tyljs  \n\n13 settembre 2025/ dalle ore 20- tributo a Ludovico Einaudi/dalle ore 22- tributo ai Queen. \n14 settembre 2025/dalle ore 20-tributo a Lucio Dalla e cantautori italiani/ dalle ore 22-tributo ai Coldplay \nMusicisti:  Liliya Akhmetzyanova – Pianista 🎹 \n  \n \n\n\n 
URL:https://www.lazzarettodicagliari.it/event/candlelight-open-air-il-13-e-14-settembre-2025/
LOCATION:Chiostro
CATEGORIES:Eventi,Musicale
ATTACH;FMTTYPE=image/avif:https://www.lazzarettodicagliari.it/wp-content/uploads/2025/08/bf9b6c1a-2c00-11f0-8edc-96637ab667b7.avif
ORGANIZER;CN="Fever up":MAILTO:-
END:VEVENT
BEGIN:VEVENT
DTSTART;TZID=UTC:20250919T080000
DTEND;TZID=UTC:20250919T233000
DTSTAMP:20260422T013711
CREATED:20250908T075418Z
LAST-MODIFIED:20250908T075418Z
UID:3713-1758268800-1758324600@www.lazzarettodicagliari.it
SUMMARY:Forma e Poesia nel Jazz-Urban Flow 2025
DESCRIPTION:Forma e Poesia nel Jazz compie 28 anni. Tanti sono passati\, realizzando numerosissime attività: la presenza del festival nel territorio è infatti documentata da un pubblico sempre crescente. Forma e Poesia nel Jazz rappresenta uno degli appuntamenti più consolidati e apprezzati\, anche da critica e addetti ai lavori\, nel panorama jazzistico sardo\, come certifica il lungo elenco di musicisti che hanno dato lustro alle sue varie stagioni. \nFin dagli esordi\, la rassegna è stata anche una preziosa vetrina per la scena musicale locale\, non senza sconfinamenti in altri ambiti espressivi. La durevolezza della proposta culturale e la sua sostenibilità sono da ricercare nei numeri che il festival riesce ad ottenere in termini di presenza di pubblico\, seguito e gradimento\, coproduzioni e partnership\, ritorno di immagine per sponsor e sostenitori e\, più in generale\, di forte impatto e partecipazione del territorio. \nPer questa edizione speciale\, FPJ Sooc Coop ha organizzato un concerto per il 19 settembre 2025 dalle ore 20 presso il chiostro del Lazzaretto di Cagliari. \nBiglietti acquistabili su:https://www.boxol.it/next/it/BoxofficeSardegna/events/573964 \nInfo: Boxoffice Sardegna:070657428/ Cooperativa:formaepoesianeljazz@gmail.com-www.formaepoesianeljazz.com-388 389 9755 \n\nPROGRAMMA\n\nMatteo Paggi (trombone) presenta GIRAFFE con Lorenzo Simoni (sax alto)\, Vittorio Solimene (pianoforte)\, Andrea Grossi (contrabbasso) e Andrea Carta (batteria)-dalle ore 20:00\nDaniele Gottardo con Nicolò Vese (basso) e Giuseppe Risitano (batteria)-dalle 21:30\n\n\n\n\n\n\n  \n\n\n\n\n\n\n\n\n  \n 
URL:https://www.lazzarettodicagliari.it/event/forma-e-poesia-nel-jazz-urban-flow-2025/
LOCATION:Chiostro
CATEGORIES:Eventi,Musicale
ATTACH;FMTTYPE=image/png:https://www.lazzarettodicagliari.it/wp-content/uploads/2025/09/er356x230_1e957bb9-1d7e-4c9b-94df-199301659747_ed2d7d8e-0b09-4b96-b15e-ea9885ce8d15.png
ORGANIZER;CN="Cooperativa Forma e Poesia nel jazz":MAILTO:388 3899755 MAIL info@formaepoesianeljazz.com
END:VEVENT
BEGIN:VEVENT
DTSTART;TZID=UTC:20251004T180000
DTEND;TZID=UTC:20251005T010000
DTSTAMP:20260422T013711
CREATED:20250925T100337Z
LAST-MODIFIED:20250925T100337Z
UID:3820-1759600800-1759626000@www.lazzarettodicagliari.it
SUMMARY:𝙈𝙊𝙑𝙀 𝙔𝙊𝙐𝙍 𝙎𝙊𝙐𝙇 𝟮𝟬𝟮𝟱🎵
DESCRIPTION:“Move Your Soul” è una festa annuale organizzata da Playcar a Cagliari\, che celebra la mobilità condivisa attraverso musica\, cibo e arte. L’edizione del 2025 si terrà il  4 Ottobre 2025 dalle 18:00 all’01:00 al Lazzaretto di Sant’Elia\, con artisti musicali e proposte di food & drink .\n\nOSPITI MUSICALI\n\nAfriqua\nParbleu \nEnrica Falqui \nSpace Germs \nDisco Bestiale\n\n\n\n\n\n\n Ingresso Gratuito
URL:https://www.lazzarettodicagliari.it/event/%f0%9d%99%88%f0%9d%99%8a%f0%9d%99%91%f0%9d%99%80-%f0%9d%99%94%f0%9d%99%8a%f0%9d%99%90%f0%9d%99%8d-%f0%9d%99%8e%f0%9d%99%8a%f0%9d%99%90%f0%9d%99%87-%f0%9d%9f%ae%f0%9d%9f%ac%f0%9d%9f%ae%f0%9d%9f%b1/
LOCATION:Chiostro
CATEGORIES:Eventi,Musicale
ATTACH;FMTTYPE=image/jpeg:https://www.lazzarettodicagliari.it/wp-content/uploads/2025/09/move-your-soul.jpg
ORGANIZER;CN="Playcar SRL":MAILTO:info@playcar.net
END:VEVENT
BEGIN:VEVENT
DTSTART;TZID=UTC:20251108T180000
DTEND;TZID=UTC:20251109T233000
DTSTAMP:20260422T013711
CREATED:20251021T102655Z
LAST-MODIFIED:20251021T102747Z
UID:3854-1762624800-1762731000@www.lazzarettodicagliari.it
SUMMARY:Top Magic Festival al Lazzaretto l'8-9 novembre 2025
DESCRIPTION:L’8 e 9 novembre 2025 avranno luogo nel Chiostro del Lazzaretto di Sant’Elia una serie di spettacoli organizzati dall’ Associazione Culturale Abc Animazione e che fanno parte del Top Magic Festival. \nEsso \,alla sua prima edizione\, renderà per una settimana la città di Cagliari teatro di strada e folklore\,  tradizione e innovazione.❤️Tutti gli eventi saranno gratuiti❤️ \nPer info : l.evento.casteddu@gmail.com/ 348 148 4247
URL:https://www.lazzarettodicagliari.it/event/top-magic-festival-al-lazzaretto-l8-9-novembre-2025/
LOCATION:Chiostro
CATEGORIES:Eventi,Musicale
ATTACH;FMTTYPE=image/jpeg:https://www.lazzarettodicagliari.it/wp-content/uploads/2025/10/top-magic-festival.jpg
ORGANIZER;CN="Associazione Culturale Abc Animazione":MAILTO:l.evento.casteddu@gmail.com
END:VEVENT
BEGIN:VEVENT
DTSTART;TZID=UTC:20251220T190000
DTEND;TZID=UTC:20251220T233000
DTSTAMP:20260422T013711
CREATED:20251218T093300Z
LAST-MODIFIED:20251218T093644Z
UID:3954-1766257200-1766273400@www.lazzarettodicagliari.it
SUMMARY:Festival corale Sa limba mea est musica🎵
DESCRIPTION:Il giorno 20 dicembre 2025 dalle ore 19 presso la Chiesa del quartiere Sant’Elia avrà luogo il concerto di chiusura Festival corale Città di Cagliari 2025\, rassegna organizzata dall’Associazione musicale Collegium Karalitanum\, con il contributo del Comune di Cagliari. \nProtagonisti della serata saranno il Coro Collegium Karalitanum\, diretto dal maestro Giorgio Sanna\, e il prestigioso gruppo Cuncordia a Launeddas\, ambasciatori nel mondo del più antico strumento musicale della Sardegna. \nl programma vedrà l’esecuzione di brani quali Notte de Chelu\, Naschid’est\, Anghelos Cantate\, Adeste Fideles\, in un percorso musicale capace di coniugare spiritualità e tradizione. \nLa scelta di concludere il Festival nel Borgo Sant’Elia assume un significato speciale: un invito a vivere la musica come spazio di incontro\, appartenenza e rinascita\, soprattutto in un periodo dell’anno carico di valori simbolici come quello natalizio. \n🎟️ Ingresso libero e gratuito
URL:https://www.lazzarettodicagliari.it/event/festival-corale-sa-limba-mea-est-musica%f0%9f%8e%b5/
LOCATION:Quartiere Sant’Elia\, piazzale Lazzaretto 1-9\, Cagliari\, cagliari\, 09126\, Italy
CATEGORIES:Eventi,Musicale,News
ATTACH;FMTTYPE=image/jpeg:https://www.lazzarettodicagliari.it/wp-content/uploads/2025/12/IMG-20251201-WA0011.jpg
ORGANIZER;CN="Associazione musicale Collegium Karalitanum":MAILTO:info@collegiumkaralitanum.it
END:VEVENT
END:VCALENDAR