BEGIN:VCALENDAR
VERSION:2.0
PRODID:-//Lazzaretto di Cagliari - ECPv6.15.12.2//NONSGML v1.0//EN
CALSCALE:GREGORIAN
METHOD:PUBLISH
X-WR-CALNAME:Lazzaretto di Cagliari
X-ORIGINAL-URL:https://www.lazzarettodicagliari.it
X-WR-CALDESC:Eventi per Lazzaretto di Cagliari
REFRESH-INTERVAL;VALUE=DURATION:PT1H
X-Robots-Tag:noindex
X-PUBLISHED-TTL:PT1H
BEGIN:VTIMEZONE
TZID:UTC
BEGIN:STANDARD
TZOFFSETFROM:+0000
TZOFFSETTO:+0000
TZNAME:UTC
DTSTART:20230101T000000
END:STANDARD
END:VTIMEZONE
BEGIN:VEVENT
DTSTART;TZID=UTC:20240607T203000
DTEND;TZID=UTC:20240608T233000
DTSTAMP:20260422T230910
CREATED:20240607T081322Z
LAST-MODIFIED:20240607T081322Z
UID:3217-1717792200-1717889400@www.lazzarettodicagliari.it
SUMMARY:concerti candlelight 6-7-8 giugno 2024
DESCRIPTION:Per la seconda stagione il Lazzaretto ospita i concerti a lume di candela\, Candlelight Open Air. I primi appuntamenti a giugno con  un’esperienza musicale e multi-sensoriale in luoghi mozzafiato illuminati dalla luce confortante delle candele. \n6 giugno 20204: tributo a Ennio Morricone (concerto ore 20.30 e ore 22.30); Luca Morelli (Pianoforte) \n7 giugno 2024: tributo ai cantautori italiani (concerto ore 20.30 e ore 22.30); Luca Morelli – Piano \n8 giugno 2024: tributo ai Queen (concerto ore 20.30);Luca Morelli (Pianoforte) – tributo a Hans Zimmer; Luca Morelli (Pianoforte). \nInformazioni e acquisto biglietti su \nhttps://feverup.com/it/cagliari/candlelight. \n 
URL:https://www.lazzarettodicagliari.it/event/concerti-candlelight-6-7-8-giugno-2024/
LOCATION:Chiostro
CATEGORIES:Eventi,Musicale
ATTACH;FMTTYPE=image/jpeg:https://www.lazzarettodicagliari.it/wp-content/uploads/2024/06/candlelight.jpg
ORGANIZER;CN="Fever up":MAILTO:-
END:VEVENT
END:VCALENDAR