BEGIN:VCALENDAR
VERSION:2.0
PRODID:-//Lazzaretto di Cagliari - ECPv6.15.12.2//NONSGML v1.0//EN
CALSCALE:GREGORIAN
METHOD:PUBLISH
X-ORIGINAL-URL:https://www.lazzarettodicagliari.it
X-WR-CALDESC:Eventi per Lazzaretto di Cagliari
REFRESH-INTERVAL;VALUE=DURATION:PT1H
X-Robots-Tag:noindex
X-PUBLISHED-TTL:PT1H
BEGIN:VTIMEZONE
TZID:UTC
BEGIN:STANDARD
TZOFFSETFROM:+0000
TZOFFSETTO:+0000
TZNAME:UTC
DTSTART:20230101T000000
END:STANDARD
END:VTIMEZONE
BEGIN:VEVENT
DTSTART;TZID=UTC:20240806T213000
DTEND;TZID=UTC:20240806T233000
DTSTAMP:20260422T195106
CREATED:20240722T123001Z
LAST-MODIFIED:20240722T123001Z
UID:3287-1722979800-1722987000@www.lazzarettodicagliari.it
SUMMARY:Acais Pasión Flamenco
DESCRIPTION:Acais Pasión Flamenco è una formazione classica\, il cosiddetto “Cuadro”\, che si può vedere e trovare nei tablao e nei piccoli teatri .“Acais” significa “occhi” in gergo gitano riferito in questo caso all’introspezione e allo sguardo interiore. Infatti il flamenco esprime attraverso toque\, cante\, baile e palmas tutto l’universo dei sentimenti umani: amore\, passione\, gelosia. È una forma d’arte dalle origini lontane ma di cui l’Andalusia conserva e custodisce il grande valore artistico. Nel 2010 il flamenco viene nominato patrimonio immateriale dall’Unesco e nel 2024 dichiarato bene di interesse culturale dalla Comunità di Madrid.\n\n\n\n\n\nIn scena\nLola Aramillo\, Begoña Arce\, Jesús Herrera (baile);\nCristina Tovar \, Miguel Picuo (cante);\nDavid Vargas (guitarra).\nIngresso € 12\,50
URL:https://www.lazzarettodicagliari.it/event/acais-pasion-flamenco/
LOCATION:Chiostro
CATEGORIES:Eventi,Musicale
ATTACH;FMTTYPE=image/jpeg:https://www.lazzarettodicagliari.it/wp-content/uploads/2024/07/Flamenco_loc2024_5.jpg
ORGANIZER;CN="Cooperativa Forma e Poesia nel jazz":MAILTO:388 3899755 MAIL info@formaepoesianeljazz.com
END:VEVENT
END:VCALENDAR