BEGIN:VCALENDAR
VERSION:2.0
PRODID:-//Lazzaretto di Cagliari - ECPv6.15.12.2//NONSGML v1.0//EN
CALSCALE:GREGORIAN
METHOD:PUBLISH
X-ORIGINAL-URL:https://www.lazzarettodicagliari.it
X-WR-CALDESC:Eventi per Lazzaretto di Cagliari
REFRESH-INTERVAL;VALUE=DURATION:PT1H
X-Robots-Tag:noindex
X-PUBLISHED-TTL:PT1H
BEGIN:VTIMEZONE
TZID:UTC
BEGIN:STANDARD
TZOFFSETFROM:+0000
TZOFFSETTO:+0000
TZNAME:UTC
DTSTART:20240101T000000
END:STANDARD
END:VTIMEZONE
BEGIN:VEVENT
DTSTART;TZID=UTC:20250619T213000
DTEND;TZID=UTC:20250619T230000
DTSTAMP:20260422T030030
CREATED:20250619T085840Z
LAST-MODIFIED:20250619T091434Z
UID:3481-1750368600-1750374000@www.lazzarettodicagliari.it
SUMMARY:"Duo Italia - due menti a confronto" con Greg e Max Paiella
DESCRIPTION:Il 19 giugno alle 21:30 arriva al Lazzaretto di Cagliari il concerto “Duo Italia – due menti a confronto”\, con Greg e Max e Paiella. \nNon perderti l'evento\, organizzato dalla Via del Collegio\, che ti proporrà una serata bizzarra che va canzoni romanesche a melodie hawaiiane\, in un'ora e mezza di divertimento puro.\n\nInfo e prevendita online www.boxofficesardegna.it – www.boxol.it \n\nPunti vendita fisici consultabili QUI
URL:https://www.lazzarettodicagliari.it/event/duo-italia-due-menti-a-confronto-con-greg-e-max-paiella/
LOCATION:Chiostro
CATEGORIES:Eventi,Musicale
ATTACH;FMTTYPE=image/png:https://www.lazzarettodicagliari.it/wp-content/uploads/2025/06/duo-italia.png
ORGANIZER;CN="la via del collegio":MAILTO:la.viadelcollegio@libero.it
END:VEVENT
END:VCALENDAR