BEGIN:VCALENDAR
VERSION:2.0
PRODID:-//Lazzaretto di Cagliari - ECPv6.15.12.2//NONSGML v1.0//EN
CALSCALE:GREGORIAN
METHOD:PUBLISH
X-WR-CALNAME:Lazzaretto di Cagliari
X-ORIGINAL-URL:https://www.lazzarettodicagliari.it
X-WR-CALDESC:Eventi per Lazzaretto di Cagliari
REFRESH-INTERVAL;VALUE=DURATION:PT1H
X-Robots-Tag:noindex
X-PUBLISHED-TTL:PT1H
BEGIN:VTIMEZONE
TZID:UTC
BEGIN:STANDARD
TZOFFSETFROM:+0000
TZOFFSETTO:+0000
TZNAME:UTC
DTSTART:20240101T000000
END:STANDARD
END:VTIMEZONE
BEGIN:VEVENT
DTSTART;TZID=UTC:20250823T200000
DTEND;TZID=UTC:20250823T233000
DTSTAMP:20260421T235147
CREATED:20250821T090128Z
LAST-MODIFIED:20250822T101402Z
UID:3626-1755979200-1755991800@www.lazzarettodicagliari.it
SUMMARY:Candlelight Open Air: tributo ad Hans Zimmer
DESCRIPTION:Il 23 agosto 2025 dalle ore 20 presso il chiostro del Lazzaretto di Cagliari si svolgeranno i concerti Candlelight in tributo ad Hans Zimmer\, organizzati da FeverUp\, dove potete vivere un’esperienza musicale e multi-sensoriale in un luogo mozzafiato\, illuminati dalla luce confortante delle candele. \n\nDurata: 65 minuti (circa). Le porte aprono 30 minuti prima dell’inizio del concerto. Non saranno consentiti ritardi.\nI posti sono assegnati all’arrivo\, in base al tipo di biglietto acquistato.\n\n Musicisti \n\nLiliya Akhmetzyanova – Piano\n\nInfo e prevendita:https://feverup.com/it/cagliari/candlelight?srsltid=AfmBOopVl15sZTo0chSKXktDd2Nvvv1sh4H95anv_S4POv6f7V2Tyljs
URL:https://www.lazzarettodicagliari.it/event/candlelight-open-air-tributo-a-hans-zimmer/
LOCATION:Chiostro
CATEGORIES:Eventi,Musicale
ATTACH;FMTTYPE=image/avif:https://www.lazzarettodicagliari.it/wp-content/uploads/2025/08/d0ba1afe-2c01-11f0-9f0c-1ee671740465.avif
ORGANIZER;CN="Fever up":MAILTO:-
END:VEVENT
END:VCALENDAR