BEGIN:VCALENDAR
VERSION:2.0
PRODID:-//Lazzaretto di Cagliari - ECPv6.15.12.2//NONSGML v1.0//EN
CALSCALE:GREGORIAN
METHOD:PUBLISH
X-WR-CALNAME:Lazzaretto di Cagliari
X-ORIGINAL-URL:https://www.lazzarettodicagliari.it
X-WR-CALDESC:Eventi per Lazzaretto di Cagliari
REFRESH-INTERVAL;VALUE=DURATION:PT1H
X-Robots-Tag:noindex
X-PUBLISHED-TTL:PT1H
BEGIN:VTIMEZONE
TZID:UTC
BEGIN:STANDARD
TZOFFSETFROM:+0000
TZOFFSETTO:+0000
TZNAME:UTC
DTSTART:20220101T000000
END:STANDARD
END:VTIMEZONE
BEGIN:VEVENT
DTSTART;TZID=UTC:20230810T213000
DTEND;TZID=UTC:20230810T233000
DTSTAMP:20260420T192838
CREATED:20230809T114351Z
LAST-MODIFIED:20230809T114351Z
UID:2562-1691703000-1691710200@www.lazzarettodicagliari.it
SUMMARY:NON SOUL FUNKY - CAGLIARI DAL VIVO 23
DESCRIPTION:La band NonSoulFunky nasce a Cagliari nel 1996 e si inserisce subito nel filone delle cover band\, proponendo un repertorio a 360° che comprende le maggiori hit italiane e internazionali dagli anni 70′ fino ad oggi sia ballabili che da ascolto. Nel corso della propria carriera\, il gruppo diventa ospite fisso di diversi discobar e discoteche della Sardegna dove riesce a dimostrare la propria capacità di animazione e coinvolgimento\, per poi espandersi al resto dell’Italia prendendo parte a numerosi concerti per locali\, disco\, convention nazionali e internazionali.
URL:https://www.lazzarettodicagliari.it/event/non-soul-funky-cagliari-dal-vivo-23/
LOCATION:Chiostro
CATEGORIES:Eventi,Musicale
ATTACH;FMTTYPE=image/jpeg:https://www.lazzarettodicagliari.it/wp-content/uploads/2023/08/nsf_10_agosto.jpg
ORGANIZER;CN="Associazione Domina Edizioni Musicali":MAILTO:info@bflat.it
END:VEVENT
END:VCALENDAR