BEGIN:VCALENDAR
VERSION:2.0
PRODID:-//Lazzaretto di Cagliari - ECPv6.15.12.2//NONSGML v1.0//EN
CALSCALE:GREGORIAN
METHOD:PUBLISH
X-ORIGINAL-URL:https://www.lazzarettodicagliari.it
X-WR-CALDESC:Eventi per Lazzaretto di Cagliari
REFRESH-INTERVAL;VALUE=DURATION:PT1H
X-Robots-Tag:noindex
X-PUBLISHED-TTL:PT1H
BEGIN:VTIMEZONE
TZID:UTC
BEGIN:STANDARD
TZOFFSETFROM:+0000
TZOFFSETTO:+0000
TZNAME:UTC
DTSTART:20240101T000000
END:STANDARD
END:VTIMEZONE
BEGIN:VEVENT
DTSTART;TZID=UTC:20250530T180000
DTEND;TZID=UTC:20250531T223000
DTSTAMP:20260423T111031
CREATED:20250528T074323Z
LAST-MODIFIED:20250528T074323Z
UID:3473-1748628000-1748730600@www.lazzarettodicagliari.it
SUMMARY:Rassegna cinematografica Film Diabolik
DESCRIPTION:Diabolik al cinema! Ma in versione cult. \nNell’ambito della mostra “I Grandi Maestri del Fumetto Italiano”\, il Lazzaretto propone due appuntamenti imperdibili\, in collaborazione con la Cineteca Sarda\, dove il fumetto entra in sala con due proiezioni speciali: \nVenerdì 30 maggio ore 18.00 \nDiabolik (1968)\, regia Mario Bava – un classico del cinema noir italiano; \nSabato 31 maggio ore 18.00 \nDiabolik (2021)\, regia Manetti Bros. – l’ultima incarnazione pop del Re del Terrore! \nAl termine: Cineforum con ospiti\, approfondimenti e sorprese \nIngresso libero.
URL:https://www.lazzarettodicagliari.it/event/rassegna-cinematografica-film-diabolik/
LOCATION:sala convegni\, Piazzale Lazzaretto 1-9\, Cagliari\, Cagliari\, 09126\, Italia
CATEGORIES:Eventi,News
ATTACH;FMTTYPE=image/jpeg:https://www.lazzarettodicagliari.it/wp-content/uploads/2025/05/WhatsApp-Image-2025-05-20-at-14.21.45.jpeg
ORGANIZER;CN="Accademia d'Arte di Cagliari":MAILTO:info@accademiadartedicagliari.com
END:VEVENT
END:VCALENDAR