BEGIN:VCALENDAR
VERSION:2.0
PRODID:-//Lazzaretto di Cagliari - ECPv6.15.12.2//NONSGML v1.0//EN
CALSCALE:GREGORIAN
METHOD:PUBLISH
X-WR-CALNAME:Lazzaretto di Cagliari
X-ORIGINAL-URL:https://www.lazzarettodicagliari.it
X-WR-CALDESC:Eventi per Lazzaretto di Cagliari
REFRESH-INTERVAL;VALUE=DURATION:PT1H
X-Robots-Tag:noindex
X-PUBLISHED-TTL:PT1H
BEGIN:VTIMEZONE
TZID:UTC
BEGIN:STANDARD
TZOFFSETFROM:+0000
TZOFFSETTO:+0000
TZNAME:UTC
DTSTART:20220101T000000
END:STANDARD
END:VTIMEZONE
BEGIN:VEVENT
DTSTART;TZID=UTC:20230913T200000
DTEND;TZID=UTC:20230913T233000
DTSTAMP:20260420T154519
CREATED:20230913T073524Z
LAST-MODIFIED:20230913T080623Z
UID:2608-1694635200-1694647800@www.lazzarettodicagliari.it
SUMMARY:Forma e poesia nel jazz - 13 settembre 2023
DESCRIPTION:Forma e Poesia nel Jazz XXVI prenderà il via mercoledì 13 settembre con una serata a ingresso gratuito (ma con prenotazione su eventbrite.it). \nore 7\, Parco Naturale Molentargius                                                                                                                      Concerto all’alba\, ANDREA SCHIRRU\, In collaborazione con BFLAT\, Inserito nella manifestazione Cagliari dal vivo 2023 \nore 20\, Lazzaretto\nDancefloor Stompers\, Danilo Salis (chitarre elettriche)\, Andrea Schirru (organo\, pianoforte\, synth\, tastiere)\, Gianmarco Diana (basso elettrico)\, Frank Stara (batteria\, percussioni)\, Silvia Follesa\, Marco Cotza (voce) \nore 21\, Lazzaretto\nSavana Funk\, Aldo Betto (chitarra)\, Blake Franchetto (basso)\, Youssef Ait Bouazza (batteria) \n 
URL:https://www.lazzarettodicagliari.it/event/forma-e-poesia-nel-jazz-13-settembre-2023/
LOCATION:Chiostro
CATEGORIES:Eventi,Musicale
ATTACH;FMTTYPE=image/jpeg:https://www.lazzarettodicagliari.it/wp-content/uploads/2023/09/savana-Funk-e-dance-floor-stompers-13-settembre.jpg
ORGANIZER;CN="Cooperativa Forma e Poesia nel jazz":MAILTO:388 3899755 MAIL info@formaepoesianeljazz.com
END:VEVENT
END:VCALENDAR