BEGIN:VCALENDAR
VERSION:2.0
PRODID:-//Lazzaretto di Cagliari - ECPv6.15.12.2//NONSGML v1.0//EN
CALSCALE:GREGORIAN
METHOD:PUBLISH
X-ORIGINAL-URL:https://www.lazzarettodicagliari.it
X-WR-CALDESC:Eventi per Lazzaretto di Cagliari
REFRESH-INTERVAL;VALUE=DURATION:PT1H
X-Robots-Tag:noindex
X-PUBLISHED-TTL:PT1H
BEGIN:VTIMEZONE
TZID:UTC
BEGIN:STANDARD
TZOFFSETFROM:+0000
TZOFFSETTO:+0000
TZNAME:UTC
DTSTART:20240101T000000
END:STANDARD
END:VTIMEZONE
BEGIN:VEVENT
DTSTART;TZID=UTC:20250307T183000
DTEND;TZID=UTC:20250307T200000
DTSTAMP:20260421T170009
CREATED:20250228T101953Z
LAST-MODIFIED:20250228T101953Z
UID:3426-1741372200-1741377600@www.lazzarettodicagliari.it
SUMMARY:Presentazione libro: In viaggio con Isa. Un’alpaca giornalista alla scoperta del mondo che cambia di Giammarco Sicuro
DESCRIPTION:Venerdì 7 marzo\, alle ore 18.30\, il Lazzaretto di Cagliari ospiterà la presentazione del nuovo libro del giornalista e inviato speciale Giammarco Sicuro\, In viaggio con Isa. Un’alpaca giornalista alla scoperta del mondo che cambia\, edito da Mondadori. \nL’evento\, realizzato in collaborazione con la Libreria Tuttestorie di Cagliari e l’UNICEF comitato provinciale di Cagliari\, offrirà al pubblico un’occasione unica per conoscere da vicino il nuovo progetto editoriale di Sicuro. Il noto inviato speciale e giornalista RAI\, presenta il suo nuovo libro “In viaggio con Isa – Un’alpaca giornalista alla scoperta del mondo che cambia”\, un’opera di divulgazione che unisce narrazione\, reportage e illustrazioni (con disegni di Sara Ugolotti)\, pensata per un pubblico giovane ma capace di coinvolgere lettori di ogni età\, intesa ad esplorare tematiche di attualità attraverso la lente della curiosità e dell’empatia. Il libro è un invito a conoscere il mondo con uno sguardo attento e consapevole. \nDurante l’incontro\, l’autore accompagnerà il pubblico in un viaggio attraverso tre grandi scenari internazionali: l’Amazzonia\, l’Ucraina e la Palestina. Con uno stile coinvolgente e accessibile\, Sicuro racconta realtà complesse con ironia\, delicatezza e semplicità\, portando con sé Isa\, un’alpaca di peluche che lo affianca nei suoi reportage. \nLa presentazione sarà aperta al pubblico e seguirà un momento dedicato alle domande dei partecipanti e alla firma delle copie del libro.
URL:https://www.lazzarettodicagliari.it/event/presentazione-libro-in-viaggio-con-isa-unalpaca-giornalista-alla-scoperta-del-mondo-che-cambia-di-giammarco-sicuro/
LOCATION:sala convegni\, Piazzale Lazzaretto 1-9\, Cagliari\, Cagliari\, 09126\, Italia
CATEGORIES:Eventi,News
ATTACH;FMTTYPE=application/pdf:https://www.lazzarettodicagliari.it/wp-content/uploads/2025/02/POST.pdf
END:VEVENT
END:VCALENDAR